BEGIN:VCALENDAR
VERSION:2.0
PRODID:-//My Calendar//http://www.joedolson.com//v3.1.5//EN
METHOD:PUBLISH
CALSCALE:GREGORIAN
X-WR-CALNAME:Faith Fellowship Church
X-PUBLISHED-TTL:PT24H
REFRESH-INTERVAL;VALUE=DURATION:PT24H
X-WR-CALDESC:Events from Faith Fellowship Church
BEGIN:VEVENT
UID:1454-100
LOCATION:Faith Fellowship Church of Dodgeville 412 W Spring St  Dodgeville WI 53533
SUMMARY:Men's Prayer Breakfast
DTSTAMP:20251004T073000
ORGANIZER;CN=admininit:MAILTO:ffc@swwits.com
DTSTART;TZID=America/Chicago:20251004T073000
DTEND;TZID=America/Chicago:20251004T083000
URL;VALUE=URI:https://www.dodgevilleffc.com/events/
DESCRIPTION: 
CATEGORIES:General
END:VEVENT
BEGIN:VEVENT
UID:1455-100
LOCATION:Faith Fellowship Church of Dodgeville 412 W Spring St  Dodgeville WI 53533
SUMMARY:Men's Prayer Breakfast
DTSTAMP:20251101T073000
ORGANIZER;CN=admininit:MAILTO:ffc@swwits.com
DTSTART;TZID=America/Chicago:20251101T073000
DTEND;TZID=America/Chicago:20251101T083000
URL;VALUE=URI:https://www.dodgevilleffc.com/events/
DESCRIPTION: 
CATEGORIES:General
END:VEVENT
BEGIN:VEVENT
UID:1456-100
LOCATION:Faith Fellowship Church of Dodgeville 412 W Spring St  Dodgeville WI 53533
SUMMARY:Men's Prayer Breakfast
DTSTAMP:20251206T073000
ORGANIZER;CN=admininit:MAILTO:ffc@swwits.com
DTSTART;TZID=America/Chicago:20251206T073000
DTEND;TZID=America/Chicago:20251206T083000
URL;VALUE=URI:https://www.dodgevilleffc.com/events/
DESCRIPTION: 
CATEGORIES:General
END:VEVENT
BEGIN:VEVENT
UID:1457-100
LOCATION:Faith Fellowship Church of Dodgeville 412 W Spring St  Dodgeville WI 53533
SUMMARY:Men's Prayer Breakfast
DTSTAMP:20260103T073000
ORGANIZER;CN=admininit:MAILTO:ffc@swwits.com
DTSTART;TZID=America/Chicago:20260103T073000
DTEND;TZID=America/Chicago:20260103T083000
URL;VALUE=URI:https://www.dodgevilleffc.com/events/
DESCRIPTION: 
CATEGORIES:General
END:VEVENT
BEGIN:VEVENT
UID:1458-100
LOCATION:Faith Fellowship Church of Dodgeville 412 W Spring St  Dodgeville WI 53533
SUMMARY:Men's Prayer Breakfast
DTSTAMP:20260207T073000
ORGANIZER;CN=admininit:MAILTO:ffc@swwits.com
DTSTART;TZID=America/Chicago:20260207T073000
DTEND;TZID=America/Chicago:20260207T083000
URL;VALUE=URI:https://www.dodgevilleffc.com/events/
DESCRIPTION: 
CATEGORIES:General
END:VEVENT
BEGIN:VEVENT
UID:1459-100
LOCATION:Faith Fellowship Church of Dodgeville 412 W Spring St  Dodgeville WI 53533
SUMMARY:Men's Prayer Breakfast
DTSTAMP:20260307T073000
ORGANIZER;CN=admininit:MAILTO:ffc@swwits.com
DTSTART;TZID=America/Chicago:20260307T073000
DTEND;TZID=America/Chicago:20260307T083000
URL;VALUE=URI:https://www.dodgevilleffc.com/events/
DESCRIPTION: 
CATEGORIES:General
END:VEVENT
BEGIN:VEVENT
UID:1460-100
LOCATION:Faith Fellowship Church of Dodgeville 412 W Spring St  Dodgeville WI 53533
SUMMARY:Men's Prayer Breakfast
DTSTAMP:20260404T073000
ORGANIZER;CN=admininit:MAILTO:ffc@swwits.com
DTSTART;TZID=America/Chicago:20260404T073000
DTEND;TZID=America/Chicago:20260404T083000
URL;VALUE=URI:https://www.dodgevilleffc.com/events/
DESCRIPTION: 
CATEGORIES:General
END:VEVENT
BEGIN:VEVENT
UID:1461-100
LOCATION:Faith Fellowship Church of Dodgeville 412 W Spring St  Dodgeville WI 53533
SUMMARY:Men's Prayer Breakfast
DTSTAMP:20260502T073000
ORGANIZER;CN=admininit:MAILTO:ffc@swwits.com
DTSTART;TZID=America/Chicago:20260502T073000
DTEND;TZID=America/Chicago:20260502T083000
URL;VALUE=URI:https://www.dodgevilleffc.com/events/
DESCRIPTION: 
CATEGORIES:General
END:VEVENT
BEGIN:VEVENT
UID:1462-100
LOCATION:Faith Fellowship Church of Dodgeville 412 W Spring St  Dodgeville WI 53533
SUMMARY:Men's Prayer Breakfast
DTSTAMP:20260606T073000
ORGANIZER;CN=admininit:MAILTO:ffc@swwits.com
DTSTART;TZID=America/Chicago:20260606T073000
DTEND;TZID=America/Chicago:20260606T083000
URL;VALUE=URI:https://www.dodgevilleffc.com/events/
DESCRIPTION: 
CATEGORIES:General
END:VEVENT
BEGIN:VEVENT
UID:1463-100
LOCATION:Faith Fellowship Church of Dodgeville 412 W Spring St  Dodgeville WI 53533
SUMMARY:Men's Prayer Breakfast
DTSTAMP:20260704T073000
ORGANIZER;CN=admininit:MAILTO:ffc@swwits.com
DTSTART;TZID=America/Chicago:20260704T073000
DTEND;TZID=America/Chicago:20260704T083000
URL;VALUE=URI:https://www.dodgevilleffc.com/events/
DESCRIPTION: 
CATEGORIES:General
END:VEVENT
BEGIN:VEVENT
UID:1464-100
LOCATION:Faith Fellowship Church of Dodgeville 412 W Spring St  Dodgeville WI 53533
SUMMARY:Men's Prayer Breakfast
DTSTAMP:20260801T073000
ORGANIZER;CN=admininit:MAILTO:ffc@swwits.com
DTSTART;TZID=America/Chicago:20260801T073000
DTEND;TZID=America/Chicago:20260801T083000
URL;VALUE=URI:https://www.dodgevilleffc.com/events/
DESCRIPTION: 
CATEGORIES:General
END:VEVENT
BEGIN:VEVENT
UID:1465-100
LOCATION:Faith Fellowship Church of Dodgeville 412 W Spring St  Dodgeville WI 53533
SUMMARY:Men's Prayer Breakfast
DTSTAMP:20260905T073000
ORGANIZER;CN=admininit:MAILTO:ffc@swwits.com
DTSTART;TZID=America/Chicago:20260905T073000
DTEND;TZID=America/Chicago:20260905T083000
URL;VALUE=URI:https://www.dodgevilleffc.com/events/
DESCRIPTION: 
CATEGORIES:General
END:VEVENT
BEGIN:VEVENT
UID:1466-100
LOCATION:Faith Fellowship Church of Dodgeville 412 W Spring St  Dodgeville WI 53533
SUMMARY:Men's Prayer Breakfast
DTSTAMP:20261003T073000
ORGANIZER;CN=admininit:MAILTO:ffc@swwits.com
DTSTART;TZID=America/Chicago:20261003T073000
DTEND;TZID=America/Chicago:20261003T083000
URL;VALUE=URI:https://www.dodgevilleffc.com/events/
DESCRIPTION: 
CATEGORIES:General
END:VEVENT
BEGIN:VEVENT
UID:1467-100
LOCATION:Faith Fellowship Church of Dodgeville 412 W Spring St  Dodgeville WI 53533
SUMMARY:Men's Prayer Breakfast
DTSTAMP:20261107T073000
ORGANIZER;CN=admininit:MAILTO:ffc@swwits.com
DTSTART;TZID=America/Chicago:20261107T073000
DTEND;TZID=America/Chicago:20261107T083000
URL;VALUE=URI:https://www.dodgevilleffc.com/events/
DESCRIPTION: 
CATEGORIES:General
END:VEVENT
BEGIN:VEVENT
UID:1468-100
LOCATION:Faith Fellowship Church of Dodgeville 412 W Spring St  Dodgeville WI 53533
SUMMARY:Men's Prayer Breakfast
DTSTAMP:20261205T073000
ORGANIZER;CN=admininit:MAILTO:ffc@swwits.com
DTSTART;TZID=America/Chicago:20261205T073000
DTEND;TZID=America/Chicago:20261205T083000
URL;VALUE=URI:https://www.dodgevilleffc.com/events/
DESCRIPTION: 
CATEGORIES:General
END:VEVENT
BEGIN:VEVENT
UID:1469-100
LOCATION:Faith Fellowship Church of Dodgeville 412 W Spring St  Dodgeville WI 53533
SUMMARY:Men's Prayer Breakfast
DTSTAMP:20270102T073000
ORGANIZER;CN=admininit:MAILTO:ffc@swwits.com
DTSTART;TZID=America/Chicago:20270102T073000
DTEND;TZID=America/Chicago:20270102T083000
URL;VALUE=URI:https://www.dodgevilleffc.com/events/
DESCRIPTION: 
CATEGORIES:General
END:VEVENT
BEGIN:VEVENT
UID:1470-100
LOCATION:Faith Fellowship Church of Dodgeville 412 W Spring St  Dodgeville WI 53533
SUMMARY:Men's Prayer Breakfast
DTSTAMP:20270206T073000
ORGANIZER;CN=admininit:MAILTO:ffc@swwits.com
DTSTART;TZID=America/Chicago:20270206T073000
DTEND;TZID=America/Chicago:20270206T083000
URL;VALUE=URI:https://www.dodgevilleffc.com/events/
DESCRIPTION: 
CATEGORIES:General
END:VEVENT
BEGIN:VEVENT
UID:1471-100
LOCATION:Faith Fellowship Church of Dodgeville 412 W Spring St  Dodgeville WI 53533
SUMMARY:Men's Prayer Breakfast
DTSTAMP:20270306T073000
ORGANIZER;CN=admininit:MAILTO:ffc@swwits.com
DTSTART;TZID=America/Chicago:20270306T073000
DTEND;TZID=America/Chicago:20270306T083000
URL;VALUE=URI:https://www.dodgevilleffc.com/events/
DESCRIPTION: 
CATEGORIES:General
END:VEVENT
BEGIN:VEVENT
UID:1472-100
LOCATION:Faith Fellowship Church of Dodgeville 412 W Spring St  Dodgeville WI 53533
SUMMARY:Men's Prayer Breakfast
DTSTAMP:20270403T073000
ORGANIZER;CN=admininit:MAILTO:ffc@swwits.com
DTSTART;TZID=America/Chicago:20270403T073000
DTEND;TZID=America/Chicago:20270403T083000
URL;VALUE=URI:https://www.dodgevilleffc.com/events/
DESCRIPTION: 
CATEGORIES:General
END:VEVENT
BEGIN:VEVENT
UID:1473-100
LOCATION:Faith Fellowship Church of Dodgeville 412 W Spring St  Dodgeville WI 53533
SUMMARY:Men's Prayer Breakfast
DTSTAMP:20270501T073000
ORGANIZER;CN=admininit:MAILTO:ffc@swwits.com
DTSTART;TZID=America/Chicago:20270501T073000
DTEND;TZID=America/Chicago:20270501T083000
URL;VALUE=URI:https://www.dodgevilleffc.com/events/
DESCRIPTION: 
CATEGORIES:General
END:VEVENT
BEGIN:VEVENT
UID:1474-100
LOCATION:Faith Fellowship Church of Dodgeville 412 W Spring St  Dodgeville WI 53533
SUMMARY:Men's Prayer Breakfast
DTSTAMP:20270605T073000
ORGANIZER;CN=admininit:MAILTO:ffc@swwits.com
DTSTART;TZID=America/Chicago:20270605T073000
DTEND;TZID=America/Chicago:20270605T083000
URL;VALUE=URI:https://www.dodgevilleffc.com/events/
DESCRIPTION: 
CATEGORIES:General
END:VEVENT
BEGIN:VEVENT
UID:1475-100
LOCATION:Faith Fellowship Church of Dodgeville 412 W Spring St  Dodgeville WI 53533
SUMMARY:Men's Prayer Breakfast
DTSTAMP:20270703T073000
ORGANIZER;CN=admininit:MAILTO:ffc@swwits.com
DTSTART;TZID=America/Chicago:20270703T073000
DTEND;TZID=America/Chicago:20270703T083000
URL;VALUE=URI:https://www.dodgevilleffc.com/events/
DESCRIPTION: 
CATEGORIES:General
END:VEVENT
BEGIN:VEVENT
UID:1476-100
LOCATION:Faith Fellowship Church of Dodgeville 412 W Spring St  Dodgeville WI 53533
SUMMARY:Men's Prayer Breakfast
DTSTAMP:20270807T073000
ORGANIZER;CN=admininit:MAILTO:ffc@swwits.com
DTSTART;TZID=America/Chicago:20270807T073000
DTEND;TZID=America/Chicago:20270807T083000
URL;VALUE=URI:https://www.dodgevilleffc.com/events/
DESCRIPTION: 
CATEGORIES:General
END:VEVENT
BEGIN:VEVENT
UID:1477-100
LOCATION:Faith Fellowship Church of Dodgeville 412 W Spring St  Dodgeville WI 53533
SUMMARY:Men's Prayer Breakfast
DTSTAMP:20270904T073000
ORGANIZER;CN=admininit:MAILTO:ffc@swwits.com
DTSTART;TZID=America/Chicago:20270904T073000
DTEND;TZID=America/Chicago:20270904T083000
URL;VALUE=URI:https://www.dodgevilleffc.com/events/
DESCRIPTION: 
CATEGORIES:General
END:VEVENT
BEGIN:VEVENT
UID:1478-100
LOCATION:Faith Fellowship Church of Dodgeville 412 W Spring St  Dodgeville WI 53533
SUMMARY:Men's Prayer Breakfast
DTSTAMP:20271002T073000
ORGANIZER;CN=admininit:MAILTO:ffc@swwits.com
DTSTART;TZID=America/Chicago:20271002T073000
DTEND;TZID=America/Chicago:20271002T083000
URL;VALUE=URI:https://www.dodgevilleffc.com/events/
DESCRIPTION: 
CATEGORIES:General
END:VEVENT
BEGIN:VEVENT
UID:1479-100
LOCATION:Faith Fellowship Church of Dodgeville 412 W Spring St  Dodgeville WI 53533
SUMMARY:Men's Prayer Breakfast
DTSTAMP:20271106T073000
ORGANIZER;CN=admininit:MAILTO:ffc@swwits.com
DTSTART;TZID=America/Chicago:20271106T073000
DTEND;TZID=America/Chicago:20271106T083000
URL;VALUE=URI:https://www.dodgevilleffc.com/events/
DESCRIPTION: 
CATEGORIES:General
END:VEVENT
BEGIN:VEVENT
UID:1480-100
LOCATION:Faith Fellowship Church of Dodgeville 412 W Spring St  Dodgeville WI 53533
SUMMARY:Men's Prayer Breakfast
DTSTAMP:20271204T073000
ORGANIZER;CN=admininit:MAILTO:ffc@swwits.com
DTSTART;TZID=America/Chicago:20271204T073000
DTEND;TZID=America/Chicago:20271204T083000
URL;VALUE=URI:https://www.dodgevilleffc.com/events/
DESCRIPTION: 
CATEGORIES:General
END:VEVENT
BEGIN:VEVENT
UID:1481-100
LOCATION:Faith Fellowship Church of Dodgeville 412 W Spring St  Dodgeville WI 53533
SUMMARY:Men's Prayer Breakfast
DTSTAMP:20280101T073000
ORGANIZER;CN=admininit:MAILTO:ffc@swwits.com
DTSTART;TZID=America/Chicago:20280101T073000
DTEND;TZID=America/Chicago:20280101T083000
URL;VALUE=URI:https://www.dodgevilleffc.com/events/
DESCRIPTION: 
CATEGORIES:General
END:VEVENT
BEGIN:VEVENT
UID:1482-100
LOCATION:Faith Fellowship Church of Dodgeville 412 W Spring St  Dodgeville WI 53533
SUMMARY:Men's Prayer Breakfast
DTSTAMP:20280205T073000
ORGANIZER;CN=admininit:MAILTO:ffc@swwits.com
DTSTART;TZID=America/Chicago:20280205T073000
DTEND;TZID=America/Chicago:20280205T083000
URL;VALUE=URI:https://www.dodgevilleffc.com/events/
DESCRIPTION: 
CATEGORIES:General
END:VEVENT
BEGIN:VEVENT
UID:1483-100
LOCATION:Faith Fellowship Church of Dodgeville 412 W Spring St  Dodgeville WI 53533
SUMMARY:Men's Prayer Breakfast
DTSTAMP:20280304T073000
ORGANIZER;CN=admininit:MAILTO:ffc@swwits.com
DTSTART;TZID=America/Chicago:20280304T073000
DTEND;TZID=America/Chicago:20280304T083000
URL;VALUE=URI:https://www.dodgevilleffc.com/events/
DESCRIPTION: 
CATEGORIES:General
END:VEVENT
END:VCALENDAR